BEGIN:VCALENDAR
VERSION:2.0
CALSCALE:GREGORIAN
PRODID:-//Diputació de Barcelona//DibaCMS//EN
BEGIN:VEVENT
UID:24899
DTSTAMP:20260422T021924
DTSTART:20121001T153000
DTEND:20121001T000000
SUMMARY:Inici d'exposició: Els treballs de recerca
LOCATION:
METHOD:PUBLISH
X-WR-CALNAME:e-seu@ajpiera.cat
X-WR-TIMEZONE:Europe/Madrid
DESCRIPTION:Inici d'exposició: Els treballs de recerca
URI:https://www.viladepiera.cat/actualitat/agenda/inici-dexposicio-els-treballs-de-recerca.html
CLASS:PUBLIC
END:VEVENT
END:VCALENDAR
