BEGIN:VCALENDAR
VERSION:2.0
CALSCALE:GREGORIAN
PRODID:-//Diputació de Barcelona//DibaCMS//EN
BEGIN:VEVENT
UID:24912
DTSTAMP:20260421T235023
DTSTART:20121005T190000
DTEND:20121005T000000
SUMMARY:Inauguració d'exposició: Tècnica mixta 2012
LOCATION:
METHOD:PUBLISH
X-WR-CALNAME:e-seu@ajpiera.cat
X-WR-TIMEZONE:Europe/Madrid
DESCRIPTION:Inauguració d'exposició: Tècnica mixta 2012
URI:https://www.viladepiera.cat/actualitat/agenda/inauguracio-dexposicio-tecnica-mixta-2012.html
CLASS:PUBLIC
END:VEVENT
END:VCALENDAR
