BEGIN:VCALENDAR
VERSION:2.0
CALSCALE:GREGORIAN
PRODID:-//Diputació de Barcelona//DibaCMS//EN
BEGIN:VEVENT
UID:24917
DTSTAMP:20260422T010117
DTSTART:20121006T221500
DTEND:20121006T221500
SUMMARY:Teatre: Paraules encadenades
LOCATION:
METHOD:PUBLISH
X-WR-CALNAME:e-seu@ajpiera.cat
X-WR-TIMEZONE:Europe/Madrid
DESCRIPTION:Teatre: Paraules encadenades

URI:https://www.viladepiera.cat/actualitat/agenda/teatre-paraules-encadenades.html
CLASS:PUBLIC
END:VEVENT
END:VCALENDAR
