BEGIN:VCALENDAR
VERSION:2.0
CALSCALE:GREGORIAN
PRODID:-//Diputació de Barcelona//DibaCMS//EN
BEGIN:VEVENT
UID:24923
DTSTAMP:20260421T195515
DTSTART:20121008T180000
DTEND:20121008T000000
SUMMARY:Taller infantil de tardor
LOCATION:
METHOD:PUBLISH
X-WR-CALNAME:e-seu@ajpiera.cat
X-WR-TIMEZONE:Europe/Madrid
DESCRIPTION:Taller infantil de tardor
URI:https://www.viladepiera.cat/actualitat/agenda/taller-infantil-de-tardor.html
CLASS:PUBLIC
END:VEVENT
END:VCALENDAR
