BEGIN:VCALENDAR
VERSION:2.0
CALSCALE:GREGORIAN
PRODID:-//Diputació de Barcelona//DibaCMS//EN
BEGIN:VEVENT
UID:24927
DTSTAMP:20260421T211045
DTSTART:20121009T190000
DTEND:20121009T000000
SUMMARY:Conferència: Viure en positiu
LOCATION:
METHOD:PUBLISH
X-WR-CALNAME:e-seu@ajpiera.cat
X-WR-TIMEZONE:Europe/Madrid
DESCRIPTION:Conferència: Viure en positiu
URI:https://www.viladepiera.cat/actualitat/agenda/conferencia-viure-en-positiu.html
CLASS:PUBLIC
END:VEVENT
END:VCALENDAR
