BEGIN:VCALENDAR
VERSION:2.0
CALSCALE:GREGORIAN
PRODID:-//Diputació de Barcelona//DibaCMS//EN
BEGIN:VEVENT
UID:24931
DTSTAMP:20260421T182108
DTSTART:20121009T190000
DTEND:20121009T000000
SUMMARY:Acte d'obertura de la Festa de la Gent Gran
LOCATION:
METHOD:PUBLISH
X-WR-CALNAME:e-seu@ajpiera.cat
X-WR-TIMEZONE:Europe/Madrid
DESCRIPTION:Acte d'obertura de la Festa de la Gent Gran
URI:https://www.viladepiera.cat/actualitat/agenda/24931-acte-dobertura-de-la-festa-de-la-gent-gran.html
CLASS:PUBLIC
END:VEVENT
END:VCALENDAR
