BEGIN:VCALENDAR
VERSION:2.0
CALSCALE:GREGORIAN
PRODID:-//Diputació de Barcelona//DibaCMS//EN
BEGIN:VEVENT
UID:24940
DTSTAMP:20260421T182030
DTSTART:20121010T110000
DTEND:20121010T000000
SUMMARY:Taller: Vine a entrenar la ment
LOCATION:
METHOD:PUBLISH
X-WR-CALNAME:e-seu@ajpiera.cat
X-WR-TIMEZONE:Europe/Madrid
DESCRIPTION:Taller: Vine a entrenar la ment
URI:https://www.viladepiera.cat/actualitat/agenda/taller-vine-a-entrenar-la-ment.html
CLASS:PUBLIC
END:VEVENT
END:VCALENDAR
