BEGIN:VCALENDAR
VERSION:2.0
CALSCALE:GREGORIAN
PRODID:-//Diputació de Barcelona//DibaCMS//EN
BEGIN:VEVENT
UID:24944
DTSTAMP:20260421T182140
DTSTART:20121011T074500
DTEND:20121011T000000
SUMMARY:Excursió a Solsona
LOCATION:
METHOD:PUBLISH
X-WR-CALNAME:e-seu@ajpiera.cat
X-WR-TIMEZONE:Europe/Madrid
DESCRIPTION:Excursió a Solsona
URI:https://www.viladepiera.cat/actualitat/agenda/excursio-a-solsona.html
CLASS:PUBLIC
END:VEVENT
END:VCALENDAR
