BEGIN:VCALENDAR
VERSION:2.0
CALSCALE:GREGORIAN
PRODID:-//Diputació de Barcelona//DibaCMS//EN
BEGIN:VEVENT
UID:24953
DTSTAMP:20260421T181620
DTSTART:20121013T200000
DTEND:20121013T000000
SUMMARY:Ball de capvespre
LOCATION:
METHOD:PUBLISH
X-WR-CALNAME:e-seu@ajpiera.cat
X-WR-TIMEZONE:Europe/Madrid
DESCRIPTION:Ball de capvespre
URI:https://www.viladepiera.cat/actualitat/agenda/24953-ball-de-capvespre.html
CLASS:PUBLIC
END:VEVENT
END:VCALENDAR
