BEGIN:VCALENDAR
VERSION:2.0
CALSCALE:GREGORIAN
PRODID:-//Diputació de Barcelona//DibaCMS//EN
BEGIN:VEVENT
UID:24962
DTSTAMP:20260421T210908
DTSTART:20121014T120000
DTEND:20121014T000000
SUMMARY:Dia del Soci al Portell
LOCATION:
METHOD:PUBLISH
X-WR-CALNAME:e-seu@ajpiera.cat
X-WR-TIMEZONE:Europe/Madrid
DESCRIPTION:Dia del Soci al Portell
URI:https://www.viladepiera.cat/actualitat/agenda/24962-dia-del-soci-al-portell.html
CLASS:PUBLIC
END:VEVENT
END:VCALENDAR
