BEGIN:VCALENDAR
VERSION:2.0
CALSCALE:GREGORIAN
PRODID:-//Diputació de Barcelona//DibaCMS//EN
BEGIN:VEVENT
UID:24964
DTSTAMP:20260421T184239
DTSTART:20140827T000000
DTEND:20140831T000000
SUMMARY:Festa major del Bedorc
LOCATION:
METHOD:PUBLISH
X-WR-CALNAME:e-seu@ajpiera.cat
X-WR-TIMEZONE:Europe/Madrid
DESCRIPTION:Festa major del Bedorc

URI:https://www.viladepiera.cat/actualitat/agenda/24964-festa-major-del-bedorc.html
CLASS:PUBLIC
END:VEVENT
END:VCALENDAR
