BEGIN:VCALENDAR
VERSION:2.0
CALSCALE:GREGORIAN
PRODID:-//Diputació de Barcelona//DibaCMS//EN
BEGIN:VEVENT
UID:24968
DTSTAMP:20260421T175800
DTSTART:20140829T000000
DTEND:20140831T000000
SUMMARY:Torneig de vòlei sorra
LOCATION:
METHOD:PUBLISH
X-WR-CALNAME:e-seu@ajpiera.cat
X-WR-TIMEZONE:Europe/Madrid
DESCRIPTION:Torneig de vòlei sorra
URI:https://www.viladepiera.cat/actualitat/agenda/24968-torneig-de-volei-sorra.html
CLASS:PUBLIC
END:VEVENT
END:VCALENDAR
