BEGIN:VCALENDAR
VERSION:2.0
CALSCALE:GREGORIAN
PRODID:-//Diputació de Barcelona//DibaCMS//EN
BEGIN:VEVENT
UID:24971
DTSTAMP:20260421T183639
DTSTART:20121014T090000
DTEND:20121014T090000
SUMMARY:Presentació del Club  Futbol Sala Piera
LOCATION:
METHOD:PUBLISH
X-WR-CALNAME:e-seu@ajpiera.cat
X-WR-TIMEZONE:Europe/Madrid
DESCRIPTION:Presentació del Club Futbol Sala Piera

URI:https://www.viladepiera.cat/actualitat/agenda/24971-presentacio-del-club-futbol-sala-piera.html
CLASS:PUBLIC
END:VEVENT
END:VCALENDAR
