BEGIN:VCALENDAR
VERSION:2.0
CALSCALE:GREGORIAN
PRODID:-//Diputació de Barcelona//DibaCMS//EN
BEGIN:VEVENT
UID:24983
DTSTAMP:20260421T171919
DTSTART:20121018T183000
DTEND:20121018T203000
SUMMARY:Sessió de primers auxilis
LOCATION:
METHOD:PUBLISH
X-WR-CALNAME:e-seu@ajpiera.cat
X-WR-TIMEZONE:Europe/Madrid
DESCRIPTION:Sessió de primers auxilis
URI:https://www.viladepiera.cat/actualitat/agenda/sessio-de-primers-auxilis.html
CLASS:PUBLIC
END:VEVENT
END:VCALENDAR
