BEGIN:VCALENDAR
VERSION:2.0
CALSCALE:GREGORIAN
PRODID:-//Diputació de Barcelona//DibaCMS//EN
BEGIN:VEVENT
UID:24987
DTSTAMP:20260421T173904
DTSTART:20140906T000000
DTEND:20140906T000000
SUMMARY:Actes Festa Major 2014
LOCATION:
METHOD:PUBLISH
X-WR-CALNAME:e-seu@ajpiera.cat
X-WR-TIMEZONE:Europe/Madrid
DESCRIPTION:Actes Festa Major 2014

URI:https://www.viladepiera.cat/actualitat/agenda/24987-actes-festa-major-2014.html
CLASS:PUBLIC
END:VEVENT
END:VCALENDAR
