BEGIN:VCALENDAR
VERSION:2.0
CALSCALE:GREGORIAN
PRODID:-//Diputació de Barcelona//DibaCMS//EN
BEGIN:VEVENT
UID:24991
DTSTAMP:20260421T213442
DTSTART:20140906T180000
DTEND:20140906T000000
SUMMARY:Pícnic-folk
LOCATION:
METHOD:PUBLISH
X-WR-CALNAME:e-seu@ajpiera.cat
X-WR-TIMEZONE:Europe/Madrid
DESCRIPTION:Pícnic-folk
URI:https://www.viladepiera.cat/actualitat/agenda/picnic-folk.html
CLASS:PUBLIC
END:VEVENT
END:VCALENDAR
