BEGIN:VCALENDAR
VERSION:2.0
CALSCALE:GREGORIAN
PRODID:-//Diputació de Barcelona//DibaCMS//EN
BEGIN:VEVENT
UID:24996
DTSTAMP:20260421T171515
DTSTART:20121020T080000
DTEND:20121020T000000
SUMMARY:Sortida cultural: El Modernisme al Maresme
LOCATION:
METHOD:PUBLISH
X-WR-CALNAME:e-seu@ajpiera.cat
X-WR-TIMEZONE:Europe/Madrid
DESCRIPTION:Sortida cultural: El Modernisme al Maresme
URI:https://www.viladepiera.cat/actualitat/agenda/sortida-cultural-el-modernisme-al-maresme.html
CLASS:PUBLIC
END:VEVENT
END:VCALENDAR
