BEGIN:VCALENDAR
VERSION:2.0
CALSCALE:GREGORIAN
PRODID:-//Diputació de Barcelona//DibaCMS//EN
BEGIN:VEVENT
UID:24998
DTSTAMP:20260421T190511
DTSTART:20140906T170000
DTEND:20140906T000000
SUMMARY:Exposició: Detalls de natura
LOCATION:
METHOD:PUBLISH
X-WR-CALNAME:e-seu@ajpiera.cat
X-WR-TIMEZONE:Europe/Madrid
DESCRIPTION:Exposició: Detalls de natura
URI:https://www.viladepiera.cat/actualitat/agenda/exposicio-detalls-de-natura.html
CLASS:PUBLIC
END:VEVENT
END:VCALENDAR
