BEGIN:VCALENDAR
VERSION:2.0
CALSCALE:GREGORIAN
PRODID:-//Diputació de Barcelona//DibaCMS//EN
BEGIN:VEVENT
UID:25004
DTSTAMP:20260421T184320
DTSTART:20121021T000000
DTEND:20121021T000000
SUMMARY:Romiatge a Montserrat
LOCATION:
METHOD:PUBLISH
X-WR-CALNAME:e-seu@ajpiera.cat
X-WR-TIMEZONE:Europe/Madrid
DESCRIPTION:Romiatge a Montserrat

URI:https://www.viladepiera.cat/actualitat/agenda/25004-romiatge-a-montserrat.html
CLASS:PUBLIC
END:VEVENT
END:VCALENDAR
