BEGIN:VCALENDAR
VERSION:2.0
CALSCALE:GREGORIAN
PRODID:-//Diputació de Barcelona//DibaCMS//EN
BEGIN:VEVENT
UID:25010
DTSTAMP:20260421T214238
DTSTART:20140907T000000
DTEND:20140907T000000
SUMMARY:Campionat de frontó
LOCATION:
METHOD:PUBLISH
X-WR-CALNAME:e-seu@ajpiera.cat
X-WR-TIMEZONE:Europe/Madrid
DESCRIPTION:Campionat de frontó

URI:https://www.viladepiera.cat/actualitat/agenda/campionat-de-fronto.html
CLASS:PUBLIC
END:VEVENT
END:VCALENDAR
