BEGIN:VCALENDAR
VERSION:2.0
CALSCALE:GREGORIAN
PRODID:-//Diputació de Barcelona//DibaCMS//EN
BEGIN:VEVENT
UID:25012
DTSTAMP:20260422T091911
DTSTART:20121023T180000
DTEND:20121023T000000
SUMMARY:Taller: Contes sobre la pell
LOCATION:
METHOD:PUBLISH
X-WR-CALNAME:e-seu@ajpiera.cat
X-WR-TIMEZONE:Europe/Madrid
DESCRIPTION:Taller: Contes sobre la pell
URI:https://www.viladepiera.cat/actualitat/agenda/taller-contes-sobre-la-pell.html
CLASS:PUBLIC
END:VEVENT
END:VCALENDAR
