BEGIN:VCALENDAR
VERSION:2.0
CALSCALE:GREGORIAN
PRODID:-//Diputació de Barcelona//DibaCMS//EN
BEGIN:VEVENT
UID:25016
DTSTAMP:20260421T184431
DTSTART:20121023T170000
DTEND:20121023T183000
SUMMARY:Xerrada-col·loqui: Com ajudar els nostres fills en els estudis
LOCATION:
METHOD:PUBLISH
X-WR-CALNAME:e-seu@ajpiera.cat
X-WR-TIMEZONE:Europe/Madrid
DESCRIPTION:Xerrada-col·loqui: Com ajudar els nostres fills en els estudis
URI:https://www.viladepiera.cat/actualitat/agenda/xerrada-colloqui-com-ajudar-els-nostres-fills-en-els-estudis.html
CLASS:PUBLIC
END:VEVENT
END:VCALENDAR
