BEGIN:VCALENDAR
VERSION:2.0
CALSCALE:GREGORIAN
PRODID:-//Diputació de Barcelona//DibaCMS//EN
BEGIN:VEVENT
UID:25024
DTSTAMP:20260422T002908
DTSTART:20121025T183000
DTEND:20121025T203000
SUMMARY:Sessió de primers auxilis
LOCATION:
METHOD:PUBLISH
X-WR-CALNAME:e-seu@ajpiera.cat
X-WR-TIMEZONE:Europe/Madrid
DESCRIPTION:Sessió de primers auxilis
URI:https://www.viladepiera.cat/actualitat/agenda/25024-sessio-de-primers-auxilis.html
CLASS:PUBLIC
END:VEVENT
END:VCALENDAR
