BEGIN:VCALENDAR
VERSION:2.0
CALSCALE:GREGORIAN
PRODID:-//Diputació de Barcelona//DibaCMS//EN
BEGIN:VEVENT
UID:25030
DTSTAMP:20260421T174611
DTSTART:20121026T200000
DTEND:20121026T200000
SUMMARY:Correllengua 2012: Construint l'Estat Català
LOCATION:
METHOD:PUBLISH
X-WR-CALNAME:e-seu@ajpiera.cat
X-WR-TIMEZONE:Europe/Madrid
DESCRIPTION:Correllengua 2012: Construint l'Estat Català

URI:https://www.viladepiera.cat/actualitat/agenda/correllengua-2012-construint-lestat-catala.html
CLASS:PUBLIC
END:VEVENT
END:VCALENDAR
