BEGIN:VCALENDAR
VERSION:2.0
CALSCALE:GREGORIAN
PRODID:-//Diputació de Barcelona//DibaCMS//EN
BEGIN:VEVENT
UID:25037
DTSTAMP:20260421T232321
DTSTART:20121027T170000
DTEND:20121027T170000
SUMMARY:Correllengua 2012: Cercavila i mostra de grups folklòrics
LOCATION:
METHOD:PUBLISH
X-WR-CALNAME:e-seu@ajpiera.cat
X-WR-TIMEZONE:Europe/Madrid
DESCRIPTION:Correllengua 2012: Cercavila i mostra de grups folklòrics

URI:https://www.viladepiera.cat/actualitat/agenda/correllengua-2012-cercavila-i-mostra-de-grups-folklorics.html
CLASS:PUBLIC
END:VEVENT
END:VCALENDAR
