BEGIN:VCALENDAR
VERSION:2.0
CALSCALE:GREGORIAN
PRODID:-//Diputació de Barcelona//DibaCMS//EN
BEGIN:VEVENT
UID:25041
DTSTAMP:20260421T235629
DTSTART:20121027T221500
DTEND:20121027T000000
SUMMARY:Concurs de Teatre: Guerres perdudes
LOCATION:
METHOD:PUBLISH
X-WR-CALNAME:e-seu@ajpiera.cat
X-WR-TIMEZONE:Europe/Madrid
DESCRIPTION:Concurs de Teatre: Guerres perdudes
URI:https://www.viladepiera.cat/actualitat/agenda/concurs-de-teatre-guerres-perdudes.html
CLASS:PUBLIC
END:VEVENT
END:VCALENDAR
