BEGIN:VCALENDAR
VERSION:2.0
CALSCALE:GREGORIAN
PRODID:-//Diputació de Barcelona//DibaCMS//EN
BEGIN:VEVENT
UID:25045
DTSTAMP:20260422T033722
DTSTART:20121028T113000
DTEND:20121028T000000
SUMMARY:Presentació AE Piera temporada 2012-13
LOCATION:
METHOD:PUBLISH
X-WR-CALNAME:e-seu@ajpiera.cat
X-WR-TIMEZONE:Europe/Madrid
DESCRIPTION:Presentació AE Piera temporada 2012-13
URI:https://www.viladepiera.cat/actualitat/agenda/presentacio-ae-piera-temporada-2012-13.html
CLASS:PUBLIC
END:VEVENT
END:VCALENDAR
