BEGIN:VCALENDAR
VERSION:2.0
CALSCALE:GREGORIAN
PRODID:-//Diputació de Barcelona//DibaCMS//EN
BEGIN:VEVENT
UID:25049
DTSTAMP:20260421T213507
DTSTART:20121028T030000
DTEND:20121028T030000
SUMMARY:Canvi d'hora
LOCATION:
METHOD:PUBLISH
X-WR-CALNAME:e-seu@ajpiera.cat
X-WR-TIMEZONE:Europe/Madrid
DESCRIPTION:Canvi d'hora

URI:https://www.viladepiera.cat/actualitat/agenda/canvi-dhora.html
CLASS:PUBLIC
END:VEVENT
END:VCALENDAR
