BEGIN:VCALENDAR
VERSION:2.0
CALSCALE:GREGORIAN
PRODID:-//Diputació de Barcelona//DibaCMS//EN
BEGIN:VEVENT
UID:25055
DTSTAMP:20260421T174512
DTSTART:20121030T180000
DTEND:20121030T000000
SUMMARY:Sessió de vídeo per a infants
LOCATION:
METHOD:PUBLISH
X-WR-CALNAME:e-seu@ajpiera.cat
X-WR-TIMEZONE:Europe/Madrid
DESCRIPTION:Sessió de vídeo per a infants
URI:https://www.viladepiera.cat/actualitat/agenda/sessio-de-video-per-a-infants.html
CLASS:PUBLIC
END:VEVENT
END:VCALENDAR
