BEGIN:VCALENDAR
VERSION:2.0
CALSCALE:GREGORIAN
PRODID:-//Diputació de Barcelona//DibaCMS//EN
BEGIN:VEVENT
UID:25058
DTSTAMP:20260421T163015
DTSTART:20121031T230000
DTEND:20121031T000000
SUMMARY:Castanyada Rock 2012
LOCATION:
METHOD:PUBLISH
X-WR-CALNAME:e-seu@ajpiera.cat
X-WR-TIMEZONE:Europe/Madrid
DESCRIPTION:Castanyada Rock 2012
URI:https://www.viladepiera.cat/actualitat/agenda/castanyada-rock-2012.html
CLASS:PUBLIC
END:VEVENT
END:VCALENDAR
