BEGIN:VCALENDAR
VERSION:2.0
CALSCALE:GREGORIAN
PRODID:-//Diputació de Barcelona//DibaCMS//EN
BEGIN:VEVENT
UID:25063
DTSTAMP:20260422T010419
DTSTART:20121031T000000
DTEND:20121031T000000
SUMMARY:Correllengua 2012: Castanyada popular
LOCATION:
METHOD:PUBLISH
X-WR-CALNAME:e-seu@ajpiera.cat
X-WR-TIMEZONE:Europe/Madrid
DESCRIPTION:Correllengua 2012: Castanyada popular

URI:https://www.viladepiera.cat/actualitat/agenda/correllengua-2012-castanyada-popular.html
CLASS:PUBLIC
END:VEVENT
END:VCALENDAR
