BEGIN:VCALENDAR
VERSION:2.0
CALSCALE:GREGORIAN
PRODID:-//Diputació de Barcelona//DibaCMS//EN
BEGIN:VEVENT
UID:25066
DTSTAMP:20260422T002033
DTSTART:20121102T153000
DTEND:20121102T153000
SUMMARY:Inici d'exposició: L'art d'educar
LOCATION:
METHOD:PUBLISH
X-WR-CALNAME:e-seu@ajpiera.cat
X-WR-TIMEZONE:Europe/Madrid
DESCRIPTION:Inici d'exposició: L'art d'educar

URI:https://www.viladepiera.cat/actualitat/agenda/inici-dexposicio-lart-deducar.html
CLASS:PUBLIC
END:VEVENT
END:VCALENDAR
