BEGIN:VCALENDAR
VERSION:2.0
CALSCALE:GREGORIAN
PRODID:-//Diputació de Barcelona//DibaCMS//EN
BEGIN:VEVENT
UID:25070
DTSTAMP:20260421T174154
DTSTART:20121102T153000
DTEND:20121102T000000
SUMMARY:Inici d'exposició: Viu la natura
LOCATION:
METHOD:PUBLISH
X-WR-CALNAME:e-seu@ajpiera.cat
X-WR-TIMEZONE:Europe/Madrid
DESCRIPTION:Inici d'exposició: Viu la natura
URI:https://www.viladepiera.cat/actualitat/agenda/inici-dexposicio-viu-la-natura.html
CLASS:PUBLIC
END:VEVENT
END:VCALENDAR
