BEGIN:VCALENDAR
VERSION:2.0
CALSCALE:GREGORIAN
PRODID:-//Diputació de Barcelona//DibaCMS//EN
BEGIN:VEVENT
UID:25074
DTSTAMP:20260421T173259
DTSTART:20121102T190000
DTEND:20121102T000000
SUMMARY:Inauguració d'exposició: La beleco kurakas
LOCATION:
METHOD:PUBLISH
X-WR-CALNAME:e-seu@ajpiera.cat
X-WR-TIMEZONE:Europe/Madrid
DESCRIPTION:Inauguració d'exposició: La beleco kurakas
URI:https://www.viladepiera.cat/actualitat/agenda/inauguracio-dexposicio-la-beleco-kurakas.html
CLASS:PUBLIC
END:VEVENT
END:VCALENDAR
