BEGIN:VCALENDAR
VERSION:2.0
CALSCALE:GREGORIAN
PRODID:-//Diputació de Barcelona//DibaCMS//EN
BEGIN:VEVENT
UID:25078
DTSTAMP:20260421T173248
DTSTART:20121103T221500
DTEND:20121103T221500
SUMMARY:Teatre: Lluny de Nuuk
LOCATION:
METHOD:PUBLISH
X-WR-CALNAME:e-seu@ajpiera.cat
X-WR-TIMEZONE:Europe/Madrid
DESCRIPTION:
URI:https://www.viladepiera.cat/actualitat/agenda/teatre-lluny-de-nuuk.html
CLASS:PUBLIC
END:VEVENT
END:VCALENDAR
