BEGIN:VCALENDAR
VERSION:2.0
CALSCALE:GREGORIAN
PRODID:-//Diputació de Barcelona//DibaCMS//EN
BEGIN:VEVENT
UID:25082
DTSTAMP:20260422T022139
DTSTART:20121106T190000
DTEND:20121106T000000
SUMMARY:Xerrada: Som energia
LOCATION:
METHOD:PUBLISH
X-WR-CALNAME:e-seu@ajpiera.cat
X-WR-TIMEZONE:Europe/Madrid
DESCRIPTION:Xerrada: Som energia
URI:https://www.viladepiera.cat/actualitat/agenda/xerrada-som-energia.html
CLASS:PUBLIC
END:VEVENT
END:VCALENDAR
