BEGIN:VCALENDAR
VERSION:2.0
CALSCALE:GREGORIAN
PRODID:-//Diputació de Barcelona//DibaCMS//EN
BEGIN:VEVENT
UID:25087
DTSTAMP:20260421T173351
DTSTART:20121107T180000
DTEND:20121107T000000
SUMMARY:Taller infantil: Tot vola!
LOCATION:
METHOD:PUBLISH
X-WR-CALNAME:e-seu@ajpiera.cat
X-WR-TIMEZONE:Europe/Madrid
DESCRIPTION:Taller infantil: Tot vola!
URI:https://www.viladepiera.cat/actualitat/agenda/taller-infantil-tot-vola.html
CLASS:PUBLIC
END:VEVENT
END:VCALENDAR
