BEGIN:VCALENDAR
VERSION:2.0
CALSCALE:GREGORIAN
PRODID:-//Diputació de Barcelona//DibaCMS//EN
BEGIN:VEVENT
UID:25099
DTSTAMP:20260421T172359
DTSTART:20121110T221500
DTEND:20121110T000000
SUMMARY:Teatre: Nadal a Halloween
LOCATION:
METHOD:PUBLISH
X-WR-CALNAME:e-seu@ajpiera.cat
X-WR-TIMEZONE:Europe/Madrid
DESCRIPTION:Teatre: Nadal a Halloween
URI:https://www.viladepiera.cat/actualitat/agenda/teatre-nadal-a-halloween.html
CLASS:PUBLIC
END:VEVENT
END:VCALENDAR
