BEGIN:VCALENDAR
VERSION:2.0
CALSCALE:GREGORIAN
PRODID:-//Diputació de Barcelona//DibaCMS//EN
BEGIN:VEVENT
UID:25103
DTSTAMP:20260421T173941
DTSTART:20121110T190000
DTEND:20121110T000000
SUMMARY:Conferència: L'altra història de Catalunya
LOCATION:
METHOD:PUBLISH
X-WR-CALNAME:e-seu@ajpiera.cat
X-WR-TIMEZONE:Europe/Madrid
DESCRIPTION:Conferència: L'altra història de Catalunya
URI:https://www.viladepiera.cat/actualitat/agenda/conferencia-laltra-historia-de-catalunya.html
CLASS:PUBLIC
END:VEVENT
END:VCALENDAR
