BEGIN:VCALENDAR
VERSION:2.0
CALSCALE:GREGORIAN
PRODID:-//Diputació de Barcelona//DibaCMS//EN
BEGIN:VEVENT
UID:25117
DTSTAMP:20260421T160645
DTSTART:20121112T180000
DTEND:20121112T000000
SUMMARY:Contes a cau d'orella: És tardor...
LOCATION:
METHOD:PUBLISH
X-WR-CALNAME:e-seu@ajpiera.cat
X-WR-TIMEZONE:Europe/Madrid
DESCRIPTION:Contes a cau d'orella: És tardor...
URI:https://www.viladepiera.cat/actualitat/agenda/contes-a-cau-dorella-es-tardor.html
CLASS:PUBLIC
END:VEVENT
END:VCALENDAR
