BEGIN:VCALENDAR
VERSION:2.0
CALSCALE:GREGORIAN
PRODID:-//Diputació de Barcelona//DibaCMS//EN
BEGIN:VEVENT
UID:25129
DTSTAMP:20260421T214904
DTSTART:20121115T190000
DTEND:20121115T000000
SUMMARY:Conferència: Alimentació energètica i 100% vegetariana
LOCATION:
METHOD:PUBLISH
X-WR-CALNAME:e-seu@ajpiera.cat
X-WR-TIMEZONE:Europe/Madrid
DESCRIPTION:Conferència: Alimentació energètica i 100% vegetariana
URI:https://www.viladepiera.cat/actualitat/agenda/conferencia-alimentacio-energetica-i-100-vegetariana.html
CLASS:PUBLIC
END:VEVENT
END:VCALENDAR
