BEGIN:VCALENDAR
VERSION:2.0
CALSCALE:GREGORIAN
PRODID:-//Diputació de Barcelona//DibaCMS//EN
BEGIN:VEVENT
UID:25138
DTSTAMP:20260422T001458
DTSTART:20121118T100000
DTEND:20121118T100000
SUMMARY:Excursió: Descobrint paisatges
LOCATION:
METHOD:PUBLISH
X-WR-CALNAME:e-seu@ajpiera.cat
X-WR-TIMEZONE:Europe/Madrid
DESCRIPTION:Excursió: Descobrint paisatges

URI:https://www.viladepiera.cat/actualitat/agenda/excursio-descobrint-paisatges.html
CLASS:PUBLIC
END:VEVENT
END:VCALENDAR
