BEGIN:VCALENDAR
VERSION:2.0
CALSCALE:GREGORIAN
PRODID:-//Diputació de Barcelona//DibaCMS//EN
BEGIN:VEVENT
UID:25145
DTSTAMP:20260421T231447
DTSTART:20121120T183000
DTEND:20121120T000000
SUMMARY:Club de lectura
LOCATION:
METHOD:PUBLISH
X-WR-CALNAME:e-seu@ajpiera.cat
X-WR-TIMEZONE:Europe/Madrid
DESCRIPTION:Club de lectura
URI:https://www.viladepiera.cat/actualitat/agenda/25145-club-de-lectura.html
CLASS:PUBLIC
END:VEVENT
END:VCALENDAR
