BEGIN:VCALENDAR
VERSION:2.0
CALSCALE:GREGORIAN
PRODID:-//Diputació de Barcelona//DibaCMS//EN
BEGIN:VEVENT
UID:25149
DTSTAMP:20260421T214310
DTSTART:20121122T180000
DTEND:20121122T000000
SUMMARY:Rusquiactivitat: L'apicultor
LOCATION:
METHOD:PUBLISH
X-WR-CALNAME:e-seu@ajpiera.cat
X-WR-TIMEZONE:Europe/Madrid
DESCRIPTION:Rusquiactivitat: L'apicultor
URI:https://www.viladepiera.cat/actualitat/agenda/rusquiactivitat-lapicultor.html
CLASS:PUBLIC
END:VEVENT
END:VCALENDAR
