BEGIN:VCALENDAR
VERSION:2.0
CALSCALE:GREGORIAN
PRODID:-//Diputació de Barcelona//DibaCMS//EN
BEGIN:VEVENT
UID:25159
DTSTAMP:20260422T013924
DTSTART:20121123T190000
DTEND:20121123T000000
SUMMARY:Conferència: De Darwin a Obama
LOCATION:
METHOD:PUBLISH
X-WR-CALNAME:e-seu@ajpiera.cat
X-WR-TIMEZONE:Europe/Madrid
DESCRIPTION:Conferència: De Darwin a Obama
URI:https://www.viladepiera.cat/actualitat/agenda/conferencia-de-darwin-a-obama.html
CLASS:PUBLIC
END:VEVENT
END:VCALENDAR
