BEGIN:VCALENDAR
VERSION:2.0
CALSCALE:GREGORIAN
PRODID:-//Diputació de Barcelona//DibaCMS//EN
BEGIN:VEVENT
UID:25162
DTSTAMP:20260421T231355
DTSTART:20121124T170000
DTEND:20121124T000000
SUMMARY:Club de lectura
LOCATION:
METHOD:PUBLISH
X-WR-CALNAME:e-seu@ajpiera.cat
X-WR-TIMEZONE:Europe/Madrid
DESCRIPTION:Club de lectura
URI:https://www.viladepiera.cat/actualitat/agenda/25162-club-de-lectura.html
CLASS:PUBLIC
END:VEVENT
END:VCALENDAR
