BEGIN:VCALENDAR
VERSION:2.0
CALSCALE:GREGORIAN
PRODID:-//Diputació de Barcelona//DibaCMS//EN
BEGIN:VEVENT
UID:25337
DTSTAMP:20260421T122335
DTSTART:20141225T000000
DTEND:20141225T000000
SUMMARY:Missa de Nadal
LOCATION:
METHOD:PUBLISH
X-WR-CALNAME:e-seu@ajpiera.cat
X-WR-TIMEZONE:Europe/Madrid
DESCRIPTION:Missa de Nadal

URI:https://www.viladepiera.cat/actualitat/agenda/25337-missa-de-nadal.html
CLASS:PUBLIC
END:VEVENT
END:VCALENDAR
