BEGIN:VCALENDAR
VERSION:2.0
CALSCALE:GREGORIAN
PRODID:-//Diputació de Barcelona//DibaCMS//EN
BEGIN:VEVENT
UID:25501
DTSTAMP:20260419T142259
DTSTART:20150117T180000
DTEND:20150117T180000
SUMMARY:Xerrada-taller: Com viure amb menys tòxics
LOCATION:
METHOD:PUBLISH
X-WR-CALNAME:e-seu@ajpiera.cat
X-WR-TIMEZONE:Europe/Madrid
DESCRIPTION:Xerrada-taller: Com viure amb menys tòxics

URI:https://www.viladepiera.cat/actualitat/agenda/xerrada-taller-com-viure-amb-menys-toxics.html
CLASS:PUBLIC
END:VEVENT
END:VCALENDAR
