BEGIN:VCALENDAR
VERSION:2.0
CALSCALE:GREGORIAN
PRODID:-//Diputació de Barcelona//DibaCMS//EN
BEGIN:VEVENT
UID:29074
DTSTAMP:20260423T024150
DTSTART:20260429T183000
DTEND:20260429T193000
SUMMARY:Atenció presencial del Banc del Temps de Piera
LOCATION:Avinguda del Gall Mullat, 7 08784 Piera
METHOD:PUBLISH
X-WR-CALNAME:e-seu@ajpiera.cat
X-WR-TIMEZONE:Europe/Madrid
DESCRIPTION:Tens dubtes o vols saber més sobre com funciona Banc del Temps? T’ajudem! 

Tens algun cobrament o pagament pendent? Coneixes la seva app Timeoverflow? Acudiu a la sessió si voleu ajuda per posar una oferta o petició. 

Cal reservar cita, amb grups màxims de 5 persones. 

Per a més informació podeu contactar al 623 19 05 22 o escriure a bancdeltempspiera@gmail.com. 

URI:https://www.viladepiera.cat/actualitat/agenda/atencio-presencial-del-banc-del-temps-de-piera.html
CLASS:PUBLIC
END:VEVENT
END:VCALENDAR
