BEGIN:VCALENDAR
VERSION:2.0
CALSCALE:GREGORIAN
PRODID:-//Diputació de Barcelona//DibaCMS//EN
BEGIN:VEVENT
UID:29075
DTSTAMP:20260423T021930
DTSTART:20260531T110000
DTEND:20260531T163000
SUMMARY:Dinar de Germanor
LOCATION:Local social de Can Bonastre.  
METHOD:PUBLISH
X-WR-CALNAME:e-seu@ajpiera.cat
X-WR-TIMEZONE:Europe/Madrid
DESCRIPTION:Celebrem el 3er Dinar de Germanor a Piera!   

Hi haurà un taller de sabó a càrrec de la Michelle i també jocs de taula i sorpreses a càrrec del Joan. 

Aquesta activitat està oberta a tothom i podeu participar escrivint a bancdeltempspiera@gmail.com. 

URI:https://www.viladepiera.cat/actualitat/agenda/29075-dinar-de-germanor.html
CLASS:PUBLIC
END:VEVENT
END:VCALENDAR
